BEGIN:VCALENDAR
VERSION:2.0
PRODID:-//Tukios.com/
BEGIN:VEVENT
UID:c5a8bbe7-7e7b-4dad-9449-aa95586e04d1@www.minorfh.com
DTSTAMP:20260420T220732Z
DTSTART:20260421T193000Z
DTEND:20260421T203000Z
SUMMARY:Funeral Service
DESCRIPTION:
URL:https://www.minorfh.com/obituaries/samal-mangar
LOCATION:Minor Funeral Home 237 US-7  Milton VT 05468
GEO:44.623432;-73.1207018
END:VEVENT
END:VCALENDAR