BEGIN:VCALENDAR
VERSION:2.0
PRODID:-//Tukios.com/
BEGIN:VEVENT
UID:cdb9969b-b349-4644-8474-c625ea7df3cc@www.minorfh.com
DTSTAMP:20260424T213541Z
DTSTART:20260512T150000Z
DTEND:20260512T160000Z
SUMMARY:Graveside Service
DESCRIPTION:
URL:https://www.minorfh.com/obituaries/phyllis-badger
LOCATION:  Main St  Milton VT 05468
GEO:44.6390946;-73.1065279
END:VEVENT
END:VCALENDAR